BEGIN:VCALENDAR
VERSION:2.0
PRODID:-//OGCSA Golf Course Superintendents Association - ECPv6.15.20//NONSGML v1.0//EN
CALSCALE:GREGORIAN
METHOD:PUBLISH
X-ORIGINAL-URL:https://www.ogcsa.org
X-WR-CALDESC:Events for OGCSA Golf Course Superintendents Association
REFRESH-INTERVAL;VALUE=DURATION:PT1H
X-Robots-Tag:noindex
X-PUBLISHED-TTL:PT1H
BEGIN:VTIMEZONE
TZID:America/Los_Angeles
BEGIN:DAYLIGHT
TZOFFSETFROM:-0800
TZOFFSETTO:-0700
TZNAME:PDT
DTSTART:20190310T100000
END:DAYLIGHT
BEGIN:STANDARD
TZOFFSETFROM:-0700
TZOFFSETTO:-0800
TZNAME:PST
DTSTART:20191103T090000
END:STANDARD
BEGIN:DAYLIGHT
TZOFFSETFROM:-0800
TZOFFSETTO:-0700
TZNAME:PDT
DTSTART:20200308T100000
END:DAYLIGHT
BEGIN:STANDARD
TZOFFSETFROM:-0700
TZOFFSETTO:-0800
TZNAME:PST
DTSTART:20201101T090000
END:STANDARD
BEGIN:DAYLIGHT
TZOFFSETFROM:-0800
TZOFFSETTO:-0700
TZNAME:PDT
DTSTART:20210314T100000
END:DAYLIGHT
BEGIN:STANDARD
TZOFFSETFROM:-0700
TZOFFSETTO:-0800
TZNAME:PST
DTSTART:20211107T090000
END:STANDARD
END:VTIMEZONE
BEGIN:VEVENT
DTSTART;TZID=America/Los_Angeles:20200129T183000
DTEND;TZID=America/Los_Angeles:20200129T213000
DTSTAMP:20260424T105045
CREATED:20190730T181619Z
LAST-MODIFIED:20191211T215938Z
UID:2842-1580322600-1580333400@www.ogcsa.org
SUMMARY:2020 Chapters of the Northwest Hospitality Room
DESCRIPTION:Planning to attend the Golf Industry Show in sunny Orlando\, Florida? Make sure to mark your calendars for the Chapters of the Northwest Hospitality Room. This is a fantastic opportunity to catch up with new and old friends from fellow Northwest GCSAA chapters. This event will be held at the Tin Roof\, Orlando. \nWe are able to host this event because of the generous support from our industry partners. We welcome your support – To join our list of sponsoring partners complete below form or contact Alexis Wenker at ogcsa@ogcsa.org or call 503-344-6535 \nOrlando Hospitality Room Sponsorship Form
URL:https://www.ogcsa.org/event/2020-chapters-of-the-northwest-hospitality-room/
LOCATION:Tin Roof\, 8371 International Dr. Ste 100\, Orlando\, FL\, 32819\, United States
END:VEVENT
END:VCALENDAR