BEGIN:VCALENDAR
VERSION:2.0
PRODID:-//OGCSA Golf Course Superintendents Association - ECPv6.15.20//NONSGML v1.0//EN
CALSCALE:GREGORIAN
METHOD:PUBLISH
X-ORIGINAL-URL:https://www.ogcsa.org
X-WR-CALDESC:Events for OGCSA Golf Course Superintendents Association
REFRESH-INTERVAL;VALUE=DURATION:PT1H
X-Robots-Tag:noindex
X-PUBLISHED-TTL:PT1H
BEGIN:VTIMEZONE
TZID:America/Los_Angeles
BEGIN:DAYLIGHT
TZOFFSETFROM:-0800
TZOFFSETTO:-0700
TZNAME:PDT
DTSTART:20200308T100000
END:DAYLIGHT
BEGIN:STANDARD
TZOFFSETFROM:-0700
TZOFFSETTO:-0800
TZNAME:PST
DTSTART:20201101T090000
END:STANDARD
BEGIN:DAYLIGHT
TZOFFSETFROM:-0800
TZOFFSETTO:-0700
TZNAME:PDT
DTSTART:20210314T100000
END:DAYLIGHT
BEGIN:STANDARD
TZOFFSETFROM:-0700
TZOFFSETTO:-0800
TZNAME:PST
DTSTART:20211107T090000
END:STANDARD
BEGIN:DAYLIGHT
TZOFFSETFROM:-0800
TZOFFSETTO:-0700
TZNAME:PDT
DTSTART:20220313T100000
END:DAYLIGHT
BEGIN:STANDARD
TZOFFSETFROM:-0700
TZOFFSETTO:-0800
TZNAME:PST
DTSTART:20221106T090000
END:STANDARD
END:VTIMEZONE
BEGIN:VEVENT
DTSTART;TZID=America/Los_Angeles:20210525T083000
DTEND;TZID=America/Los_Angeles:20210525T160000
DTSTAMP:20260420T144309
CREATED:20210319T162213Z
LAST-MODIFIED:20210524T161607Z
UID:3953-1621931400-1621958400@www.ogcsa.org
SUMMARY:2021 Annual Meeting
DESCRIPTION:The Annual Meeting Planning Committee is excited to announce that Curt Morgan\, Pub Course Superintendent and McMenamins Edgefield have welcomed us once again for the OGCSA Annual Members Meeting. We are excited to announce that we are allowed to move forward hosting this event in-person outdoors following guidance from McMenamins and Oregon Health Authority. \nPresented By: \n \n***MASK UPDATE*** OUR MEETING WILL BE HELD OUTDOORS \nOUTDOORS: masks are not required whether vaccinated or not. This includes the outdoor dining areas. \nINDOORS: proof of vaccination is required before removing masks; unless seated and actively eating and drinking. \n8:00a.m. – Check-in \n8:30a.m. – Members Business Meeting \n9:30a.m. – Awards & Industry Updates \n11:45a.m. – Lunch \n1:00pm. – 20 holes of Golf \nREGISTER HERE\nDirections to Blackberry Hall – Meadow\nLodging Information: Edgefield Hotel – McMenamins \n*Dress Code: Golf Attire \n*Cancellation / No-Show Policy: Cancellation requests must be made in writing. No refunds will be made for no-shows or for cancellations made after May 18\, 2021. \n 
URL:https://www.ogcsa.org/event/2021-annual-meeting/
LOCATION:McMenamins Edgefield\, 2126 SW Halsey\, Troutdale\, Oregon\, 97060
END:VEVENT
END:VCALENDAR