BEGIN:VCALENDAR
VERSION:2.0
PRODID:-//OGCSA Golf Course Superintendents Association - ECPv6.15.20//NONSGML v1.0//EN
CALSCALE:GREGORIAN
METHOD:PUBLISH
X-WR-CALNAME:OGCSA Golf Course Superintendents Association
X-ORIGINAL-URL:https://www.ogcsa.org
X-WR-CALDESC:Events for OGCSA Golf Course Superintendents Association
REFRESH-INTERVAL;VALUE=DURATION:PT1H
X-Robots-Tag:noindex
X-PUBLISHED-TTL:PT1H
BEGIN:VTIMEZONE
TZID:America/Los_Angeles
BEGIN:DAYLIGHT
TZOFFSETFROM:-0800
TZOFFSETTO:-0700
TZNAME:PDT
DTSTART:20200308T100000
END:DAYLIGHT
BEGIN:STANDARD
TZOFFSETFROM:-0700
TZOFFSETTO:-0800
TZNAME:PST
DTSTART:20201101T090000
END:STANDARD
BEGIN:DAYLIGHT
TZOFFSETFROM:-0800
TZOFFSETTO:-0700
TZNAME:PDT
DTSTART:20210314T100000
END:DAYLIGHT
BEGIN:STANDARD
TZOFFSETFROM:-0700
TZOFFSETTO:-0800
TZNAME:PST
DTSTART:20211107T090000
END:STANDARD
BEGIN:DAYLIGHT
TZOFFSETFROM:-0800
TZOFFSETTO:-0700
TZNAME:PDT
DTSTART:20220313T100000
END:DAYLIGHT
BEGIN:STANDARD
TZOFFSETFROM:-0700
TZOFFSETTO:-0800
TZNAME:PST
DTSTART:20221106T090000
END:STANDARD
END:VTIMEZONE
BEGIN:VEVENT
DTSTART;TZID=America/Los_Angeles:20210624T103000
DTEND;TZID=America/Los_Angeles:20210624T180000
DTSTAMP:20260422T155400
CREATED:20210416T180406Z
LAST-MODIFIED:20210521T124157Z
UID:4052-1624530600-1624557600@www.ogcsa.org
SUMMARY:2021 Superintendent – Assistant Tournament
DESCRIPTION:  \nWe love moving this event around and visiting the many outstanding courses in our chapter. This year we are headed to the beautiful Hood River Valley to Indian Creek Golf Course for the 2021 Superintendent / Assistant Tournament.  Tournament host Tyson Jacobs\, General Manager / Superintendent is excited to have us and is looking forward to seeing all of you in June! \nPresented By: \n \nSchedule of Events:\n10:30 a.m. – Check-in\, range access and lunch\n12:00 p.m. – Shotgun Start \nFormat:\n18 Holes; 2-person teams \nSuperintendent & Assistant play as a team\n*Affiliate members are welcome to form a team or pair with a Superintendent or Assistant \nRegister Here
URL:https://www.ogcsa.org/event/2021-superintendent-assistant-tournament/
LOCATION:Indian Creek Golf Course\, 3605 Brookside Dr.\, Hood River\, OR\, 97031\, United States
END:VEVENT
END:VCALENDAR