BEGIN:VCALENDAR
VERSION:2.0
PRODID:-//OGCSA Golf Course Superintendents Association - ECPv6.15.20//NONSGML v1.0//EN
CALSCALE:GREGORIAN
METHOD:PUBLISH
X-ORIGINAL-URL:https://www.ogcsa.org
X-WR-CALDESC:Events for OGCSA Golf Course Superintendents Association
REFRESH-INTERVAL;VALUE=DURATION:PT1H
X-Robots-Tag:noindex
X-PUBLISHED-TTL:PT1H
BEGIN:VTIMEZONE
TZID:America/Los_Angeles
BEGIN:DAYLIGHT
TZOFFSETFROM:-0800
TZOFFSETTO:-0700
TZNAME:PDT
DTSTART:20200308T100000
END:DAYLIGHT
BEGIN:STANDARD
TZOFFSETFROM:-0700
TZOFFSETTO:-0800
TZNAME:PST
DTSTART:20201101T090000
END:STANDARD
BEGIN:DAYLIGHT
TZOFFSETFROM:-0800
TZOFFSETTO:-0700
TZNAME:PDT
DTSTART:20210314T100000
END:DAYLIGHT
BEGIN:STANDARD
TZOFFSETFROM:-0700
TZOFFSETTO:-0800
TZNAME:PST
DTSTART:20211107T090000
END:STANDARD
BEGIN:DAYLIGHT
TZOFFSETFROM:-0800
TZOFFSETTO:-0700
TZNAME:PDT
DTSTART:20220313T100000
END:DAYLIGHT
BEGIN:STANDARD
TZOFFSETFROM:-0700
TZOFFSETTO:-0800
TZNAME:PST
DTSTART:20221106T090000
END:STANDARD
END:VTIMEZONE
BEGIN:VEVENT
DTSTART;TZID=America/Los_Angeles:20210819T100000
DTEND;TZID=America/Los_Angeles:20210819T120000
DTSTAMP:20260422T121054
CREATED:20210601T205331Z
LAST-MODIFIED:20210726T200908Z
UID:4218-1629367200-1629374400@www.ogcsa.org
SUMMARY:2021 Winter Kill Prevention & Recovery With Dr. Paul Koch
DESCRIPTION:Winter kill can lead to devastating amounts of injury that can result in months of poor playing conditions. In this 2 hour webinar we will discuss the various types of winter kill\, focusing on those that are most likely to occur in central and eastern Oregon. We will introduce the environmental conditions that lead to each type of winter kill\, what strategies exist for preventing winter kill from occurring\, and how to optimize your recovery time. Ample time for questions and discussion will be provided throughout the webinar. You may also send in questions ahead of time to ogcsa@ogcsa.org \nThis program has been approved for 0.20 GCSAA education points.  \nAbout the Speaker:  \nPaul Koch\, Ph.D.\, Associate Professor\, Department of Plant Pathology\, Molecular and Environmental Toxicology Center \nUniversity of Wisconsin – Madison \n\nPaul is an associate professor in the Department of Plant Pathology at the University of Wisconsin – Madison and has been with UW in various roles since 2005. Paul’s research focuses primarily on developing precision disease management strategies for snow mold and dollar spot in turfgrass and investigating the fate and impact of turfgrass pesticides in the environment. Paul also oversees the University of Wisconsin’s Turfgrass Diagnostic Lab and the UW Turfgrass Fungicide Testing Program. \nQuestions about this webinar or would prefer to be billed by invoice\, contact Alexis Wenker at ogcsa@ogcsa.org or (503)344-6535 \nREGISTER HERE
URL:https://www.ogcsa.org/event/2021-winter-kill-prevention-recovery-with-dr-paul-koch/
LOCATION:Webinar Meeting
END:VEVENT
END:VCALENDAR