BEGIN:VCALENDAR
VERSION:2.0
PRODID:-//OGCSA Golf Course Superintendents Association - ECPv6.15.20//NONSGML v1.0//EN
CALSCALE:GREGORIAN
METHOD:PUBLISH
X-WR-CALNAME:OGCSA Golf Course Superintendents Association
X-ORIGINAL-URL:https://www.ogcsa.org
X-WR-CALDESC:Events for OGCSA Golf Course Superintendents Association
REFRESH-INTERVAL;VALUE=DURATION:PT1H
X-Robots-Tag:noindex
X-PUBLISHED-TTL:PT1H
BEGIN:VTIMEZONE
TZID:America/Los_Angeles
BEGIN:DAYLIGHT
TZOFFSETFROM:-0800
TZOFFSETTO:-0700
TZNAME:PDT
DTSTART:20210314T100000
END:DAYLIGHT
BEGIN:STANDARD
TZOFFSETFROM:-0700
TZOFFSETTO:-0800
TZNAME:PST
DTSTART:20211107T090000
END:STANDARD
BEGIN:DAYLIGHT
TZOFFSETFROM:-0800
TZOFFSETTO:-0700
TZNAME:PDT
DTSTART:20220313T100000
END:DAYLIGHT
BEGIN:STANDARD
TZOFFSETFROM:-0700
TZOFFSETTO:-0800
TZNAME:PST
DTSTART:20221106T090000
END:STANDARD
BEGIN:DAYLIGHT
TZOFFSETFROM:-0800
TZOFFSETTO:-0700
TZNAME:PDT
DTSTART:20230312T100000
END:DAYLIGHT
BEGIN:STANDARD
TZOFFSETFROM:-0700
TZOFFSETTO:-0800
TZNAME:PST
DTSTART:20231105T090000
END:STANDARD
END:VTIMEZONE
BEGIN:VEVENT
DTSTART;TZID=America/Los_Angeles:20220125T073000
DTEND;TZID=America/Los_Angeles:20220125T133000
DTSTAMP:20260422T035522
CREATED:20211122T202324Z
LAST-MODIFIED:20220120T144612Z
UID:4538-1643095800-1643117400@www.ogcsa.org
SUMMARY:2022 Crew Seminar
DESCRIPTION:We are back! Plan to join us for the 2022 Crew Seminar. Take a break from the cold wet Winter weather and come inside for a day of education and networking at Tualatin Country Club.   \n\nAgenda\n7:30-8:00 a.m.                 Check in\, Registration and Networking \n8:00-8:15 a.m.                 Welcome – Randy Shults\, CGCS ~ Host Superintendent\, Tualatin Country Club \n8:15-9:15 a.m.                  Oregon State University Turfgrass Update – Chas Schmid\, Ph.D.\, Research Associate \n9:15-9:30 a.m.                  Break  \n9:30-10:30 a.m.                Golf – Past\, Present and Future – Larry Gilhuly\, Gilhuly Golf Consulting & Cory Isom\, USGA Green Section \n10:30-11:30 a.m.              So\, You Want to Host a Championship? Panel Discussion with Superintendents Jim Myers\, CGCS Columbia Edgewater Country Club & Eric Feldhusen\, Pumpkin Ridge Golf Club \n11:30-12:30 p.m.               Lunch \n12:30-2:00 p.m.                Innovations in Breeding Turfgrass for Disease and Stress – Crystal Rose-Fricker\, President Pure Seed and Pure Seed Testing \nRegister Here
URL:https://www.ogcsa.org/event/2022-crew-seminar/
LOCATION:Tualatin Country Club\, 9145 SW Tualatin Rd\, Tualatin\, OR\, 97062\, United States
END:VEVENT
END:VCALENDAR