BEGIN:VCALENDAR
VERSION:2.0
PRODID:-//OGCSA Golf Course Superintendents Association - ECPv6.15.20//NONSGML v1.0//EN
CALSCALE:GREGORIAN
METHOD:PUBLISH
X-WR-CALNAME:OGCSA Golf Course Superintendents Association
X-ORIGINAL-URL:https://www.ogcsa.org
X-WR-CALDESC:Events for OGCSA Golf Course Superintendents Association
REFRESH-INTERVAL;VALUE=DURATION:PT1H
X-Robots-Tag:noindex
X-PUBLISHED-TTL:PT1H
BEGIN:VTIMEZONE
TZID:America/Los_Angeles
BEGIN:DAYLIGHT
TZOFFSETFROM:-0800
TZOFFSETTO:-0700
TZNAME:PDT
DTSTART:20210314T100000
END:DAYLIGHT
BEGIN:STANDARD
TZOFFSETFROM:-0700
TZOFFSETTO:-0800
TZNAME:PST
DTSTART:20211107T090000
END:STANDARD
BEGIN:DAYLIGHT
TZOFFSETFROM:-0800
TZOFFSETTO:-0700
TZNAME:PDT
DTSTART:20220313T100000
END:DAYLIGHT
BEGIN:STANDARD
TZOFFSETFROM:-0700
TZOFFSETTO:-0800
TZNAME:PST
DTSTART:20221106T090000
END:STANDARD
BEGIN:DAYLIGHT
TZOFFSETFROM:-0800
TZOFFSETTO:-0700
TZNAME:PDT
DTSTART:20230312T100000
END:DAYLIGHT
BEGIN:STANDARD
TZOFFSETFROM:-0700
TZOFFSETTO:-0800
TZNAME:PST
DTSTART:20231105T090000
END:STANDARD
END:VTIMEZONE
BEGIN:VEVENT
DTSTART;TZID=America/Los_Angeles:20220209T180000
DTEND;TZID=America/Los_Angeles:20220209T210000
DTSTAMP:20260422T021306
CREATED:20211004T173554Z
LAST-MODIFIED:20220206T215238Z
UID:4437-1644429600-1644440400@www.ogcsa.org
SUMMARY:2022 Chapters of the Northwest Hospitality Room
DESCRIPTION:When making your Conference and Trade Show arrangements mark your calendars for the annual Chapters of the Northwest Hospitality Room. We have selected a pretty cool venue for this event in 2022.\nPlan to join us Wednesday\, February 9 at The Blind Burro\, which specializes in Baja Mexican cuisine. The Blind Burro is conveniently located in the Gaslamp district within walking distance to the convention center and most of our chapter room blocks.\n  \n  \n  \nThis event is made possible from the support of our Industry Partners!\n~Thank You~\nPlatinum Sponsors\nC&B Operations – Pacific Golf & Turf\nHelena Agri-Enterprises\nWinfield United\nGold Sponsors\nAquatrols\nBarenbrug\nBayer Environmental Science\nMidland Implement/Turf Equipment & Irrigation\nRidgetop Golf\nSimplot Turf & Horticulture\nSyngenta\nTurf Star | Western\nWilbur Ellis Company\nSilver Sponsors\nEarthWorks\nHarco Pipe Fittings\nHD Fowler\nHorizon Distributors\nPlanet Turf\nRain Bird\nRMT Equipment\nBronze Sponsors\nAMGUARD\nEnviroLogic Resources\nSustainable Pest Management Solutions\nThe Andersons
URL:https://www.ogcsa.org/event/2022-chapters-of-the-northwest-hospitality-room/
LOCATION:The Blind Burro\, 639 J. St.\, San Diego\, CA\, 92101\, United States
END:VEVENT
END:VCALENDAR