BEGIN:VCALENDAR
VERSION:2.0
PRODID:-//OGCSA Golf Course Superintendents Association - ECPv6.15.20//NONSGML v1.0//EN
CALSCALE:GREGORIAN
METHOD:PUBLISH
X-WR-CALNAME:OGCSA Golf Course Superintendents Association
X-ORIGINAL-URL:https://www.ogcsa.org
X-WR-CALDESC:Events for OGCSA Golf Course Superintendents Association
REFRESH-INTERVAL;VALUE=DURATION:PT1H
X-Robots-Tag:noindex
X-PUBLISHED-TTL:PT1H
BEGIN:VTIMEZONE
TZID:America/Los_Angeles
BEGIN:DAYLIGHT
TZOFFSETFROM:-0800
TZOFFSETTO:-0700
TZNAME:PDT
DTSTART:20210314T100000
END:DAYLIGHT
BEGIN:STANDARD
TZOFFSETFROM:-0700
TZOFFSETTO:-0800
TZNAME:PST
DTSTART:20211107T090000
END:STANDARD
BEGIN:DAYLIGHT
TZOFFSETFROM:-0800
TZOFFSETTO:-0700
TZNAME:PDT
DTSTART:20220313T100000
END:DAYLIGHT
BEGIN:STANDARD
TZOFFSETFROM:-0700
TZOFFSETTO:-0800
TZNAME:PST
DTSTART:20221106T090000
END:STANDARD
BEGIN:DAYLIGHT
TZOFFSETFROM:-0800
TZOFFSETTO:-0700
TZNAME:PDT
DTSTART:20230312T100000
END:DAYLIGHT
BEGIN:STANDARD
TZOFFSETFROM:-0700
TZOFFSETTO:-0800
TZNAME:PST
DTSTART:20231105T090000
END:STANDARD
END:VTIMEZONE
BEGIN:VEVENT
DTSTART;TZID=America/Los_Angeles:20220429T110000
DTEND;TZID=America/Los_Angeles:20220429T190000
DTSTAMP:20260421T194649
CREATED:20211222T163513Z
LAST-MODIFIED:20220428T162048Z
UID:4584-1651230000-1651258800@www.ogcsa.org
SUMMARY:2022 OGCSA Open Golf Tournament
DESCRIPTION:The OGCSA Golf Committee is excited to announce that Astoria Golf & Country Club will be the host of the 2022 OGCSA Open Golf Tournament. \nSave the date and plan to join us in April to kick of the 2022 golf season with a fun day of golf and camaraderie amongst your fellow members and colleagues. \nRegistration Closed\nPresented By\n \n  \nTeam registration includes:\n-4-person golf team with carts\n-Range balls\n-Tee prize\n-On course games\n-Pre and post round food and beverages \n **Cancellation / No-Show Policy: Cancellation requests must be made in writing to the OGCSA office. No refunds will be made for no-shows or for cancellations made after April 22\, 2022.\nQUESTIONS:\nContact OGCSA office at 503-344-6535 or email: ogcsa@ogcsa.org \n  \n 
URL:https://www.ogcsa.org/event/2022-ogcsa-open-golf-tournament/
LOCATION:Astoria Golf & Country Club\, 33445 Sunset Beach Lane\, Warrenton\, OR\, 97146\, United States
END:VEVENT
END:VCALENDAR