BEGIN:VCALENDAR
VERSION:2.0
PRODID:-//OGCSA Golf Course Superintendents Association - ECPv6.15.20//NONSGML v1.0//EN
CALSCALE:GREGORIAN
METHOD:PUBLISH
X-ORIGINAL-URL:https://www.ogcsa.org
X-WR-CALDESC:Events for OGCSA Golf Course Superintendents Association
REFRESH-INTERVAL;VALUE=DURATION:PT1H
X-Robots-Tag:noindex
X-PUBLISHED-TTL:PT1H
BEGIN:VTIMEZONE
TZID:America/Los_Angeles
BEGIN:DAYLIGHT
TZOFFSETFROM:-0800
TZOFFSETTO:-0700
TZNAME:PDT
DTSTART:20220313T100000
END:DAYLIGHT
BEGIN:STANDARD
TZOFFSETFROM:-0700
TZOFFSETTO:-0800
TZNAME:PST
DTSTART:20221106T090000
END:STANDARD
BEGIN:DAYLIGHT
TZOFFSETFROM:-0800
TZOFFSETTO:-0700
TZNAME:PDT
DTSTART:20230312T100000
END:DAYLIGHT
BEGIN:STANDARD
TZOFFSETFROM:-0700
TZOFFSETTO:-0800
TZNAME:PST
DTSTART:20231105T090000
END:STANDARD
BEGIN:DAYLIGHT
TZOFFSETFROM:-0800
TZOFFSETTO:-0700
TZNAME:PDT
DTSTART:20240310T100000
END:DAYLIGHT
BEGIN:STANDARD
TZOFFSETFROM:-0700
TZOFFSETTO:-0800
TZNAME:PST
DTSTART:20241103T090000
END:STANDARD
END:VTIMEZONE
BEGIN:VEVENT
DTSTART;TZID=America/Los_Angeles:20230111T070000
DTEND;TZID=America/Los_Angeles:20230111T133000
DTSTAMP:20260421T064334
CREATED:20221228T194235Z
LAST-MODIFIED:20230110T173021Z
UID:5369-1673420400-1673443800@www.ogcsa.org
SUMMARY:2023 Equipment Managers & Irrigation Seminar
DESCRIPTION:Registration OPEN! Save the date and plan to join us at Club Green Meadows in Vancouver\, WA to network\, hear updates\, and learn new skills from some top industry speakers. New this year Rainbird will be hosting a breakout session covering irrigation.\nRegister Here\nAgenda: \n7:00 – 7:30am – Check in – Networking time – Coffee & Pastries \n7:30 – 8:00am – Welcome – Introductions \n\nSchedule for the day\nUpdate on new additions/positions at PGT (Connected Support\, Inside Irrigation Rep\, Technical Communicator)\n\n8:00 – 9:30am – John Deere Technology Advancements \n\nJohn Gladis from John Deere presenting\nIntroduction to JDLink\, Operations Center\, Onlink with OnEquip\, OnLabor\n\n9:30 – 10:00 – Break & Break into Groups \nEquipment  \n10:00 – 11:00am \nOperation and maintenance of John Deere Tier IV machines – Chad Stover John Deere TCSM  \nIrrigation \n10:00 – 11:00am \nIrrigation Troubleshooting – Carl Taylor \n11:00 – 11:45am – Lunch \nEquipment \n11:45 – 1:30pm \n\nReel Setup and Theory\nGPS Sprayer walkaround\n9009A/tech control walk around\n\nIrrigation \n11:45 – 1:30pm \n\nRain Bird IC/Non IC Software Training – Cameron Callaway\nIntroduction to IC – Cameron Callaway\n\n  \nTopics: \n\nOnLink\, Ops Center\, GPS Sprayers presented by JD employee\nOperation and maintenance of John Deere Tier IV machines.\nIrrigations updates\n\nBreakout sessions \n\nGPS sprayer walk around\nHands on reel training\nHands on irrigation head training\nIrrigation computer training\n\nRegister Here\nPresented By:
URL:https://www.ogcsa.org/event/2023-equipment-managers-irrigation-seminar/
LOCATION:Club Green Meadows\, 7703 NE 72nd Ave\, Vancouver\, WA\, 98661\, United States
END:VEVENT
END:VCALENDAR