BEGIN:VCALENDAR
VERSION:2.0
PRODID:-//OGCSA Golf Course Superintendents Association - ECPv6.15.20//NONSGML v1.0//EN
CALSCALE:GREGORIAN
METHOD:PUBLISH
X-WR-CALNAME:OGCSA Golf Course Superintendents Association
X-ORIGINAL-URL:https://www.ogcsa.org
X-WR-CALDESC:Events for OGCSA Golf Course Superintendents Association
REFRESH-INTERVAL;VALUE=DURATION:PT1H
X-Robots-Tag:noindex
X-PUBLISHED-TTL:PT1H
BEGIN:VTIMEZONE
TZID:America/Los_Angeles
BEGIN:DAYLIGHT
TZOFFSETFROM:-0800
TZOFFSETTO:-0700
TZNAME:PDT
DTSTART:20220313T100000
END:DAYLIGHT
BEGIN:STANDARD
TZOFFSETFROM:-0700
TZOFFSETTO:-0800
TZNAME:PST
DTSTART:20221106T090000
END:STANDARD
BEGIN:DAYLIGHT
TZOFFSETFROM:-0800
TZOFFSETTO:-0700
TZNAME:PDT
DTSTART:20230312T100000
END:DAYLIGHT
BEGIN:STANDARD
TZOFFSETFROM:-0700
TZOFFSETTO:-0800
TZNAME:PST
DTSTART:20231105T090000
END:STANDARD
BEGIN:DAYLIGHT
TZOFFSETFROM:-0800
TZOFFSETTO:-0700
TZNAME:PDT
DTSTART:20240310T100000
END:DAYLIGHT
BEGIN:STANDARD
TZOFFSETFROM:-0700
TZOFFSETTO:-0800
TZNAME:PST
DTSTART:20241103T090000
END:STANDARD
END:VTIMEZONE
BEGIN:VEVENT
DTSTART;TZID=America/Los_Angeles:20230315T073000
DTEND;TZID=America/Los_Angeles:20230315T130000
DTSTAMP:20260421T032203
CREATED:20221229T184850Z
LAST-MODIFIED:20230217T182011Z
UID:5381-1678865400-1678885200@www.ogcsa.org
SUMMARY:2023 OGCSA - WWGCSA Service Project at Campbell Course - Home of the Children's Course
DESCRIPTION:We are excited to once again give back to the community with our 4th annual joint association service project. Plan to join us March 15\, 2023\, at The Campbell Course – Home of the Children’s Course in Gladstone\, WA. We are seeking volunteers and donations to perform a variety of tasks on the golf course. Hope to see you there! \nSign up to volunteer here\nOr RSVP to Alexis at ogcsa@ogsca.org ~ 503-344-6535 \n 
URL:https://www.ogcsa.org/event/2023-campbell-course-home-of-the-childrens-course-service-project/
LOCATION:The Children’s Course\, 19 Meldrum Bar Park Road\, Gladstone\, 97027\, United States
END:VEVENT
END:VCALENDAR