BEGIN:VCALENDAR
VERSION:2.0
PRODID:-//OGCSA Golf Course Superintendents Association - ECPv6.15.20//NONSGML v1.0//EN
CALSCALE:GREGORIAN
METHOD:PUBLISH
X-WR-CALNAME:OGCSA Golf Course Superintendents Association
X-ORIGINAL-URL:https://www.ogcsa.org
X-WR-CALDESC:Events for OGCSA Golf Course Superintendents Association
REFRESH-INTERVAL;VALUE=DURATION:PT1H
X-Robots-Tag:noindex
X-PUBLISHED-TTL:PT1H
BEGIN:VTIMEZONE
TZID:America/Los_Angeles
BEGIN:DAYLIGHT
TZOFFSETFROM:-0800
TZOFFSETTO:-0700
TZNAME:PDT
DTSTART:20190310T100000
END:DAYLIGHT
BEGIN:STANDARD
TZOFFSETFROM:-0700
TZOFFSETTO:-0800
TZNAME:PST
DTSTART:20191103T090000
END:STANDARD
BEGIN:DAYLIGHT
TZOFFSETFROM:-0800
TZOFFSETTO:-0700
TZNAME:PDT
DTSTART:20200308T100000
END:DAYLIGHT
BEGIN:STANDARD
TZOFFSETFROM:-0700
TZOFFSETTO:-0800
TZNAME:PST
DTSTART:20201101T090000
END:STANDARD
BEGIN:DAYLIGHT
TZOFFSETFROM:-0800
TZOFFSETTO:-0700
TZNAME:PDT
DTSTART:20210314T100000
END:DAYLIGHT
BEGIN:STANDARD
TZOFFSETFROM:-0700
TZOFFSETTO:-0800
TZNAME:PST
DTSTART:20211107T090000
END:STANDARD
END:VTIMEZONE
BEGIN:VEVENT
DTSTART;TZID=America/Los_Angeles:20200114T073000
DTEND;TZID=America/Los_Angeles:20200114T140000
DTSTAMP:20260418T184929
CREATED:20191031T203046Z
LAST-MODIFIED:20200113T212426Z
UID:2994-1578987000-1579010400@www.ogcsa.org
SUMMARY:2020 Equipment Managers Seminar
DESCRIPTION:Plan to start the new year by joining us for the annual Equipment Managers Seminar\nPresented  By: \n \n  \nThe 2020 seminar will be held at the RMT Equipment facility in Troutdale. Come hear updates and learn new skills from some top industry speakers.  \n\nAgenda: \n7:30-8:00a.m.– Check in\, Registration and Networking \n8:00-8:45 a.m.\n– Hydraulic Aspects in Equipment\nDavid Walker\,  Product Support Manager \n8:45-9:00 a.m. – Break \n9:00-9:45 a.m.\n–New Battery Technology\nCreig Henry\,  Battery Systems \n9:45-10:00 a.m. – Break \n10:00-11:00 a.m.\n–Grinding Technology\nLarry Robinson\,  SIP Grinders \n11:00 a.m. – 12:00 p.m. – Lunch  \n12:00-12:45 p.m.\n– Electrical Aspects in Equipment\nDavid Walker\,  Product Support Manager \n12:45-1:30 p.m.\nSafe Practices in the Shop\nOregon OSHA \n1:30-2:00 p.m. – Open Discussion \nREGISTER HERE\n **Cancellation / No-Show Policy: Cancellation requests must be made in writing to the OGCSA office. No refunds will be made for no-shows or for cancellations made after January 10\, 2020.\nQUESTIONS:\nContact OGCSA office at 503-344-6535 or email: ogcsa@ogcsa.org
URL:https://www.ogcsa.org/event/2020-equipment-managers-seminar/
LOCATION:RMT Equipment\, 892 NW Corporate Dr\, Building E\, Troutdale\, OR\, 97060\, United States
END:VEVENT
BEGIN:VEVENT
DTSTART;TZID=America/Los_Angeles:20200122T080000
DTEND;TZID=America/Los_Angeles:20200122T143000
DTSTAMP:20260418T184929
CREATED:20191113T191541Z
LAST-MODIFIED:20200121T175808Z
UID:3009-1579680000-1579703400@www.ogcsa.org
SUMMARY:2020 Crew Seminar
DESCRIPTION:Plan to join us for the 2020 Crew Seminar. Take a break from the cold wet Winter weather and come inside for a day of education and networking at Tualatin Country Club.  \n~Seminar Topics~\n– 36 Years of Turf Tips from Larry Gilhuly\, Gilhuly Golf Consulting\n– The Green Start Academy Experience from Eric Langford\n-Hands on Turfgrass Identification with Emily and Alyssa from Oregon State University\n-BMP’s  for Trees and Shrubs\n-Chainsaw operation and safety \n~ Presented By ~ \n \n\nRegistration Closed – Call OGCSA office 503-344-6535 for availability\n**Cancellation deadline is January 17\, 2020. You must submit your cancellation in writing via email to ogcsa@ogcsa.org on or before this date for a refund.
URL:https://www.ogcsa.org/event/2020-crew-seminar/
LOCATION:Tualatin Country Club\, 9145 SW Tualatin Rd\, Tualatin\, OR\, 97062\, United States
END:VEVENT
BEGIN:VEVENT
DTSTART;TZID=America/Los_Angeles:20200129T183000
DTEND;TZID=America/Los_Angeles:20200129T213000
DTSTAMP:20260418T184929
CREATED:20190730T181619Z
LAST-MODIFIED:20191211T215938Z
UID:2842-1580322600-1580333400@www.ogcsa.org
SUMMARY:2020 Chapters of the Northwest Hospitality Room
DESCRIPTION:Planning to attend the Golf Industry Show in sunny Orlando\, Florida? Make sure to mark your calendars for the Chapters of the Northwest Hospitality Room. This is a fantastic opportunity to catch up with new and old friends from fellow Northwest GCSAA chapters. This event will be held at the Tin Roof\, Orlando. \nWe are able to host this event because of the generous support from our industry partners. We welcome your support – To join our list of sponsoring partners complete below form or contact Alexis Wenker at ogcsa@ogcsa.org or call 503-344-6535 \nOrlando Hospitality Room Sponsorship Form
URL:https://www.ogcsa.org/event/2020-chapters-of-the-northwest-hospitality-room/
LOCATION:Tin Roof\, 8371 International Dr. Ste 100\, Orlando\, FL\, 32819\, United States
END:VEVENT
END:VCALENDAR