BEGIN:VCALENDAR
VERSION:2.0
PRODID:-//OGCSA Golf Course Superintendents Association - ECPv6.15.20//NONSGML v1.0//EN
CALSCALE:GREGORIAN
METHOD:PUBLISH
X-ORIGINAL-URL:https://www.ogcsa.org
X-WR-CALDESC:Events for OGCSA Golf Course Superintendents Association
REFRESH-INTERVAL;VALUE=DURATION:PT1H
X-Robots-Tag:noindex
X-PUBLISHED-TTL:PT1H
BEGIN:VTIMEZONE
TZID:America/Los_Angeles
BEGIN:DAYLIGHT
TZOFFSETFROM:-0800
TZOFFSETTO:-0700
TZNAME:PDT
DTSTART:20190310T100000
END:DAYLIGHT
BEGIN:STANDARD
TZOFFSETFROM:-0700
TZOFFSETTO:-0800
TZNAME:PST
DTSTART:20191103T090000
END:STANDARD
BEGIN:DAYLIGHT
TZOFFSETFROM:-0800
TZOFFSETTO:-0700
TZNAME:PDT
DTSTART:20200308T100000
END:DAYLIGHT
BEGIN:STANDARD
TZOFFSETFROM:-0700
TZOFFSETTO:-0800
TZNAME:PST
DTSTART:20201101T090000
END:STANDARD
BEGIN:DAYLIGHT
TZOFFSETFROM:-0800
TZOFFSETTO:-0700
TZNAME:PDT
DTSTART:20210314T100000
END:DAYLIGHT
BEGIN:STANDARD
TZOFFSETFROM:-0700
TZOFFSETTO:-0800
TZNAME:PST
DTSTART:20211107T090000
END:STANDARD
END:VTIMEZONE
BEGIN:VEVENT
DTSTART;TZID=America/Los_Angeles:20200428T110000
DTEND;TZID=America/Los_Angeles:20200428T180000
DTSTAMP:20260423T134108
CREATED:20191113T193353Z
LAST-MODIFIED:20200319T134832Z
UID:3014-1588071600-1588096800@www.ogcsa.org
SUMMARY:2020 OGCSA Open Golf Tournament
DESCRIPTION:Regrettably\, out of an abundance of caution in response to the Coronavirus pandemic\, we have decided to cancel the 2020 OGCSA Open.\n  \n \n Pumpkin Ridge Golf Club and host Superintendent\, Eric Feldhusen have welcomed us for the 2020 OGCSA Open Tournament. It’s time to gather your team and join us to kick off the golf season for a fun day of golf and camaraderie. \nTeam registration includes:\n-4-person golf team with carts – Ghost Creek Golf Course\n-Range balls\n-Tee prize\n-On course games\n-Lunch prior and dinner post round with awards \nSchedule of Events:\n10:30 a.m. Check in\, range access\, lunch and tee prize distribution\n12:00 p.m. Shotgun Start -Team Scramble\nPost Round – Dinner & awards \nEVENT CANCELLED\nPresented By: \n \n\n*Cancellation / No-Show Policy: Cancellation requests must be made in writing. No refunds will be made for no-shows or for cancellations made after April 21\, 2020.\n**Dress Code: Golf attire for golf and dinner. No denim please
URL:https://www.ogcsa.org/event/2020-ogcsa-open-golf-tournament/
LOCATION:Pumpkin Ridge Golf Club\, 12930 NW Old Pumpkin Ridge Road\, North Plains\, Oregon\, 97133
END:VEVENT
END:VCALENDAR