BEGIN:VCALENDAR
VERSION:2.0
PRODID:-//OGCSA Golf Course Superintendents Association - ECPv6.15.20//NONSGML v1.0//EN
CALSCALE:GREGORIAN
METHOD:PUBLISH
X-WR-CALNAME:OGCSA Golf Course Superintendents Association
X-ORIGINAL-URL:https://www.ogcsa.org
X-WR-CALDESC:Events for OGCSA Golf Course Superintendents Association
REFRESH-INTERVAL;VALUE=DURATION:PT1H
X-Robots-Tag:noindex
X-PUBLISHED-TTL:PT1H
BEGIN:VTIMEZONE
TZID:America/Los_Angeles
BEGIN:DAYLIGHT
TZOFFSETFROM:-0800
TZOFFSETTO:-0700
TZNAME:PDT
DTSTART:20190310T100000
END:DAYLIGHT
BEGIN:STANDARD
TZOFFSETFROM:-0700
TZOFFSETTO:-0800
TZNAME:PST
DTSTART:20191103T090000
END:STANDARD
BEGIN:DAYLIGHT
TZOFFSETFROM:-0800
TZOFFSETTO:-0700
TZNAME:PDT
DTSTART:20200308T100000
END:DAYLIGHT
BEGIN:STANDARD
TZOFFSETFROM:-0700
TZOFFSETTO:-0800
TZNAME:PST
DTSTART:20201101T090000
END:STANDARD
BEGIN:DAYLIGHT
TZOFFSETFROM:-0800
TZOFFSETTO:-0700
TZNAME:PDT
DTSTART:20210314T100000
END:DAYLIGHT
BEGIN:STANDARD
TZOFFSETFROM:-0700
TZOFFSETTO:-0800
TZNAME:PST
DTSTART:20211107T090000
END:STANDARD
END:VTIMEZONE
BEGIN:VEVENT
DTSTART;TZID=America/Los_Angeles:20200616T110000
DTEND;TZID=America/Los_Angeles:20200616T180000
DTSTAMP:20260423T112639
CREATED:20200210T191726Z
LAST-MODIFIED:20200421T161113Z
UID:3074-1592305200-1592330400@www.ogcsa.org
SUMMARY:2020 Superintendent - Assistant Tournament
DESCRIPTION:Regrettably\, out of an abundance of caution in response to the Coronavirus pandemic\, we have decided to cancel the\n2020 Superintendent-Assistant Tournament\n \nIf you have never been to Tokatee Golf Club you will not want to miss this opportunity to experience one of the most beautiful golf settings in the state! Superintendent Ty Patton welcomes us for the 2020 Superintendent / Assistant Tournament on June 16th. So…..find a team partner and save the date! \n 
URL:https://www.ogcsa.org/event/2020-superintendent-assistant-tournament/
LOCATION:Tokatee Golf Course\, 54947 McKenzie Highway\, Blue River\, OR\, 97413
END:VEVENT
END:VCALENDAR