BEGIN:VCALENDAR
VERSION:2.0
PRODID:-//OGCSA Golf Course Superintendents Association - ECPv6.15.20//NONSGML v1.0//EN
CALSCALE:GREGORIAN
METHOD:PUBLISH
X-ORIGINAL-URL:https://www.ogcsa.org
X-WR-CALDESC:Events for OGCSA Golf Course Superintendents Association
REFRESH-INTERVAL;VALUE=DURATION:PT1H
X-Robots-Tag:noindex
X-PUBLISHED-TTL:PT1H
BEGIN:VTIMEZONE
TZID:America/Los_Angeles
BEGIN:DAYLIGHT
TZOFFSETFROM:-0800
TZOFFSETTO:-0700
TZNAME:PDT
DTSTART:20190310T100000
END:DAYLIGHT
BEGIN:STANDARD
TZOFFSETFROM:-0700
TZOFFSETTO:-0800
TZNAME:PST
DTSTART:20191103T090000
END:STANDARD
BEGIN:DAYLIGHT
TZOFFSETFROM:-0800
TZOFFSETTO:-0700
TZNAME:PDT
DTSTART:20200308T100000
END:DAYLIGHT
BEGIN:STANDARD
TZOFFSETFROM:-0700
TZOFFSETTO:-0800
TZNAME:PST
DTSTART:20201101T090000
END:STANDARD
BEGIN:DAYLIGHT
TZOFFSETFROM:-0800
TZOFFSETTO:-0700
TZNAME:PDT
DTSTART:20210314T100000
END:DAYLIGHT
BEGIN:STANDARD
TZOFFSETFROM:-0700
TZOFFSETTO:-0800
TZNAME:PST
DTSTART:20211107T090000
END:STANDARD
END:VTIMEZONE
BEGIN:VEVENT
DTSTART;TZID=America/Los_Angeles:20201011T170000
DTEND;TZID=America/Los_Angeles:20201012T170000
DTSTAMP:20260423T052341
CREATED:20200421T160521Z
LAST-MODIFIED:20200421T160614Z
UID:3308-1602435600-1602522000@www.ogcsa.org
SUMMARY:2020 Oregon Turfgrass Foundation Event
DESCRIPTION:18th Annual Oregon Turfgrass Foundation Golf Tournament\n  \nJoin the Oregon Turfgrass Foundation for the Annual OTF Golf Tournament in Portland and support OSU research and student scholarships.\nVisit oregonturfgrassfoundation.org for registration and sponsorship opportunities
URL:https://www.ogcsa.org/event/2020-oregon-turfgrass-foundation-event/
LOCATION:OR
END:VEVENT
END:VCALENDAR