BEGIN:VCALENDAR
VERSION:2.0
PRODID:-//OGCSA Golf Course Superintendents Association - ECPv6.15.20//NONSGML v1.0//EN
CALSCALE:GREGORIAN
METHOD:PUBLISH
X-WR-CALNAME:OGCSA Golf Course Superintendents Association
X-ORIGINAL-URL:https://www.ogcsa.org
X-WR-CALDESC:Events for OGCSA Golf Course Superintendents Association
REFRESH-INTERVAL;VALUE=DURATION:PT1H
X-Robots-Tag:noindex
X-PUBLISHED-TTL:PT1H
BEGIN:VTIMEZONE
TZID:America/Los_Angeles
BEGIN:DAYLIGHT
TZOFFSETFROM:-0800
TZOFFSETTO:-0700
TZNAME:PDT
DTSTART:20200308T100000
END:DAYLIGHT
BEGIN:STANDARD
TZOFFSETFROM:-0700
TZOFFSETTO:-0800
TZNAME:PST
DTSTART:20201101T090000
END:STANDARD
BEGIN:DAYLIGHT
TZOFFSETFROM:-0800
TZOFFSETTO:-0700
TZNAME:PDT
DTSTART:20210314T100000
END:DAYLIGHT
BEGIN:STANDARD
TZOFFSETFROM:-0700
TZOFFSETTO:-0800
TZNAME:PST
DTSTART:20211107T090000
END:STANDARD
BEGIN:DAYLIGHT
TZOFFSETFROM:-0800
TZOFFSETTO:-0700
TZNAME:PDT
DTSTART:20220313T100000
END:DAYLIGHT
BEGIN:STANDARD
TZOFFSETFROM:-0700
TZOFFSETTO:-0800
TZNAME:PST
DTSTART:20221106T090000
END:STANDARD
END:VTIMEZONE
BEGIN:VEVENT
DTSTART;TZID=America/Los_Angeles:20210427T094500
DTEND;TZID=America/Los_Angeles:20210427T180000
DTSTAMP:20260422T192121
CREATED:20201222T154923Z
LAST-MODIFIED:20210426T192028Z
UID:3630-1619516700-1619546400@www.ogcsa.org
SUMMARY:2021 OGCSA Open Golf Tournament
DESCRIPTION:EVENT FULL\nWe were forced to cancel in 2020 ~ so let’s try again in 2021! \nPumpkin Ridge Golf Club and host Superintendent\, Eric Feldhusen have welcomed us once again for the  OGCSA Open Tournament. Mark you calendars and starting putting together your team and plan to join us to kick of the 2021 golf season. \nPresented By: \n \nTeam registration includes:\n-4-person golf team with carts – Ghost Creek Golf Course\n-Range balls\n-Tee prize\n-On course games\n-Pre and Post round food and beverages \nUPDATE: Schedule of Events:\nSplit Tee Start -Scramble format \n Team Name\n10:30 #1 Langdon Farms\n10:30 #2 Astoria Golf & CC\n10:40 #1 Floratine/Amvac\n10:40 #2 Syngenta\n10:50 #1 Simplot Partners (Sean)\n10:50 #2 Orchard Hills Golf & CC\n11:00 #1 Wilbur Ellis Co. (Stan)\n11:00 #2 Simplot Partners (Kurt)\n11:10 #1 Wilbur Ellis Co. (Rod)\n11:10 #2 Nufarm/Winfield\n11:20 #1 Wilbur Ellis Co. (Danny)\n11:20 #2 Gresham GC\n11:30 #1 CECC/Waverley CC\n11:30 #2 Turfstar Western (Ashley)\n11:40 #1 Portland Golf Club\n11:40 #2 Portland Golf Club\n11:50 #1 Western/Turfstar (Peter)\n11:50 #2 Pumpkin Ridge GC\n12:00 #1 Oregon Golf Club\n12:00 #2 Oswego Lake CC\n12:10 #1 Pacific Golf & Turf / Rainbird \n **Cancellation / No-Show Policy: Cancellation requests must be made in writing to the OGCSA office. No refunds will be made for no-shows or for cancellations made after April 16\,2021.\nQUESTIONS:\nContact OGCSA office at 503-344-6535 or email: ogcsa@ogcsa.org
URL:https://www.ogcsa.org/event/2021-ogcsa-open-golf-tournament/
LOCATION:Pumpkin Ridge Golf Club\, 12930 NW Old Pumpkin Ridge Road\, North Plains\, Oregon\, 97133
END:VEVENT
BEGIN:VEVENT
DTSTART;TZID=America/Los_Angeles:20210429T113000
DTEND;TZID=America/Los_Angeles:20210429T130000
DTSTAMP:20260422T192121
CREATED:20210329T174005Z
LAST-MODIFIED:20210329T175358Z
UID:3986-1619695800-1619701200@www.ogcsa.org
SUMMARY:Oregon/Washington GCSA Virtual BMP Facility Workshop
DESCRIPTION:Best Management Practices (BMPs) are the tools that successful superintendents use every day to maintain quality playing surfaces. The adoption of BMP plans at the facility level helps the Oregon\, Western Washington\, and Inland Empire chapters and GCSAA to advocate for golf course superintendents with national\, state and local lawmakers as well as the media by demonstrating our commitment to professional land management using science-based BMPs including the responsible use of inputs. \nThe Oregon GCSA\, Western Washington GCSA\, and Inland Empire GCSA invite you to learn about creating a BMP guide for your facility. \nDate: April 29\, 2021 \nTime:  11:30 am to 1:00 pm PDT \nLocation: Online GoToWebinar \nIn this workshop Mark Johnson\, David Phipps and Emily Fuger\, GCSAA will explain why BMPs are important at your facility and show how easy it is to use GCSAA’s tool to develop your own BMP plan. Lastly\, we will help you start adapting the state guide to your own facility by leading you through some highlights of one chapter.  We encourage you to use a split screen with GoToWebinar to follow along and create/work on your own facility BMP. In addition to the benefit of having a BMP plan\, you will earn 0.2 education points from GCSAA for attending the session\, and you can also earn 0.50 service points once you complete your plan. \nRegister for the workshop on-line at\nhttps://attendee.gotowebinar.com/register/7394500884203459856\nQuestions about this workshop? Contact Alexis Wenker at ogcsa@ogcsa.org or (503)344-6535 or Mark Johnson at mjohnson@gcsaa.org or (785)312-5161. \nBEST MANAGEMENT PRACTICES – WHY NOW? \n\nBMP plans are more important than ever before. While you’re probably already employing many BMP practices\, having the plan proves to those outside the golf industry that superintendents are professional land managers guided by peer-reviewed science and are committed to making the best choices for their facilities communities.\nBMP plans create opportunities for the golf industry to demonstrate healthy land stewardship.\nBMP plans help preserve existing grant funding for turfgrass research that helps golf remain environmentally and financially sustainable.\nBMP plans are excellent communications tools when talking with the public\, media or special interest groups.\nGCSAA’s BMP program has inspired local\, state and federal partnerships\, which demonstrate golf as a model in professional land management.\nBMPs help keep products in the golf market when GCSAA submits comments to EPA on active ingredients making their way through Registration Review.\nBMP plans help protect golf against legislation and regulation that affect the golf industry.\n\nPREPARE FOR THE WEBINAR \n\nHave your computer ready to access the webinar through the GoToMeeting software.\nView the PDF of the Oregon Guide or Washington Guide.\nVisit GCSAA’s Brief How-To Videos located at org/bmp which will familiarize you with the tool. Each of the videos is less than 5 minutes in length.\nThe seminar will be recorded and made available On Demand at gcsaa.org to assist you with the completion of your guide.
URL:https://www.ogcsa.org/event/oregon-washington-gcsa-virtual-bmp-facility-workshop/
LOCATION:Webinar Meeting
END:VEVENT
END:VCALENDAR