BEGIN:VCALENDAR
VERSION:2.0
PRODID:-//OGCSA Golf Course Superintendents Association - ECPv6.15.20//NONSGML v1.0//EN
CALSCALE:GREGORIAN
METHOD:PUBLISH
X-ORIGINAL-URL:https://www.ogcsa.org
X-WR-CALDESC:Events for OGCSA Golf Course Superintendents Association
REFRESH-INTERVAL;VALUE=DURATION:PT1H
X-Robots-Tag:noindex
X-PUBLISHED-TTL:PT1H
BEGIN:VTIMEZONE
TZID:America/Los_Angeles
BEGIN:DAYLIGHT
TZOFFSETFROM:-0800
TZOFFSETTO:-0700
TZNAME:PDT
DTSTART:20200308T100000
END:DAYLIGHT
BEGIN:STANDARD
TZOFFSETFROM:-0700
TZOFFSETTO:-0800
TZNAME:PST
DTSTART:20201101T090000
END:STANDARD
BEGIN:DAYLIGHT
TZOFFSETFROM:-0800
TZOFFSETTO:-0700
TZNAME:PDT
DTSTART:20210314T100000
END:DAYLIGHT
BEGIN:STANDARD
TZOFFSETFROM:-0700
TZOFFSETTO:-0800
TZNAME:PST
DTSTART:20211107T090000
END:STANDARD
BEGIN:DAYLIGHT
TZOFFSETFROM:-0800
TZOFFSETTO:-0700
TZNAME:PDT
DTSTART:20220313T100000
END:DAYLIGHT
BEGIN:STANDARD
TZOFFSETFROM:-0700
TZOFFSETTO:-0800
TZNAME:PST
DTSTART:20221106T090000
END:STANDARD
END:VTIMEZONE
BEGIN:VEVENT
DTSTART;TZID=America/Los_Angeles:20210819T100000
DTEND;TZID=America/Los_Angeles:20210819T120000
DTSTAMP:20260422T103111
CREATED:20210601T205331Z
LAST-MODIFIED:20210726T200908Z
UID:4218-1629367200-1629374400@www.ogcsa.org
SUMMARY:2021 Winter Kill Prevention & Recovery With Dr. Paul Koch
DESCRIPTION:Winter kill can lead to devastating amounts of injury that can result in months of poor playing conditions. In this 2 hour webinar we will discuss the various types of winter kill\, focusing on those that are most likely to occur in central and eastern Oregon. We will introduce the environmental conditions that lead to each type of winter kill\, what strategies exist for preventing winter kill from occurring\, and how to optimize your recovery time. Ample time for questions and discussion will be provided throughout the webinar. You may also send in questions ahead of time to ogcsa@ogcsa.org \nThis program has been approved for 0.20 GCSAA education points.  \nAbout the Speaker:  \nPaul Koch\, Ph.D.\, Associate Professor\, Department of Plant Pathology\, Molecular and Environmental Toxicology Center \nUniversity of Wisconsin – Madison \n\nPaul is an associate professor in the Department of Plant Pathology at the University of Wisconsin – Madison and has been with UW in various roles since 2005. Paul’s research focuses primarily on developing precision disease management strategies for snow mold and dollar spot in turfgrass and investigating the fate and impact of turfgrass pesticides in the environment. Paul also oversees the University of Wisconsin’s Turfgrass Diagnostic Lab and the UW Turfgrass Fungicide Testing Program. \nQuestions about this webinar or would prefer to be billed by invoice\, contact Alexis Wenker at ogcsa@ogcsa.org or (503)344-6535 \nREGISTER HERE
URL:https://www.ogcsa.org/event/2021-winter-kill-prevention-recovery-with-dr-paul-koch/
LOCATION:Webinar Meeting
END:VEVENT
BEGIN:VEVENT
DTSTART;TZID=America/Los_Angeles:20210826T080000
DTEND;TZID=America/Los_Angeles:20210826T190000
DTSTAMP:20260422T103111
CREATED:20210624T123914Z
LAST-MODIFIED:20210624T123914Z
UID:4267-1629964800-1630004400@www.ogcsa.org
SUMMARY:2021 OSU Turf Field Day
DESCRIPTION:2021 OSU Turf Field Day  \n\nThursday – August 26\, 2021\nLewis-Brown Farm\n3329 Peoria Rd\nCorvallis\, OR 97333\n\n  Schedule   \n\n8:00 am to 9:00 am – Check-in and Breakfast\n9:00 am to 11:30 am – Field Day\, Industry Expo\n11:30 am to 12:30 pm – Lunch\n1:00 pm to 7:00 pm – J. Oliver Memorial Golf Tournament and Dinner\n\nField Day Topics  \n\nEffects of Plant Growth Regulators on Aerification Recovery\nLong Term Effects of Topdressing and Aerification on Annual Bluegrass\nTurfgrass as Carbon Sink (Cap and Trade Research Update)\nEndophyte Mediated Disease Resistance\nDisease Diagnosis Laboratory\nFungicide Alternatives for Microdochium\nFungicides for Management of Anthracnose\nTall Fescue\, Perennial Ryegrass\, and Fine Fescue NTEP\n\nRegistration is FREE for all attendees   \n\nPlease RSVP to alec.kowalewski@oregonstate.edu\nPlease indicate if you will be bringing an exhibitor booth (tables\, and shade tent will be provided)\nPlease indicate if you will be golfing in the afternoon\, and who is in your foursome
URL:https://www.ogcsa.org/event/2021-osu-turf-field-day/
LOCATION:Lewis-Brown Farm\, 33329 Peoria Rd\, Corvallis\, OR\, 97333\, United States
END:VEVENT
BEGIN:VEVENT
DTSTART;VALUE=DATE:20210831
DTEND;VALUE=DATE:20210901
DTSTAMP:20260422T103111
CREATED:20210416T181335Z
LAST-MODIFIED:20210817T141852Z
UID:4058-1630368000-1630454399@www.ogcsa.org
SUMMARY:2021 - Crew Tournament - West
DESCRIPTION:Event is FULL!!!\nIn 2021 we will be celebrating the 40th Anniversary of the OGCSA Crew Tournament! Plan to join us August 31st at Arrowhead Golf Club in Molalla\, Oregon for this popular event. This tournament fills up quick\, even if you do not have all your player information\, register early to make sure you secure your spot. \nPresented by: \n \n  \nThe format this year is a 4-person scramble. Payouts will be for 1st\, 2nd\, 3rd gross and net along with many other raffle prizes! Top 2 gross teams will compete against Washington’s Crew Champions in the 17th Annual PNW Crew Championship! \nMaximum of 58 teams with tee times beginning at 6:18 a.m. For available tee times contact:\nStan Presley 503-550-4186 or Alexis Wenker 503-344-6535 \nRegistration includes: Golf\, lunch\, range balls\, hat and raffle prizes. Optional Fun ~ Payball competition ~ $10/team & Beaver Ball ~ $10/team \n**Golf carts are not included with registration — Call Arrowhead pro shop to reserve and understand facility rider policy  503-829-8080** \nEVENT IS FULL – To be put on the waitlist email ogcsa@ogcsa.org\nREGISTER HERE \nTEE TIMES\nAdditional Info: \n\nDress code will be strictly enforced: collared shirts required. No denim\nAll players must be employed for the course they are representing and work on the greens/grounds crew to qualify for PNW Crew Championship\n24 handicap maximum\nPGA Professionals are not eligible for prizes\n\n**Cancellation / No-Show Policy: Cancellation requests must be made in writing. No refunds will be made for no-shows or for cancellations made after Monday\, August 23\, 2021.
URL:https://www.ogcsa.org/event/2021-crew-tournament-west/
LOCATION:Arrowhead GC\, 28301 S. Hwy 213\, Molalla\, OR\, 97038\, United States
END:VEVENT
END:VCALENDAR