BEGIN:VCALENDAR
VERSION:2.0
PRODID:-//OGCSA Golf Course Superintendents Association - ECPv6.15.20//NONSGML v1.0//EN
CALSCALE:GREGORIAN
METHOD:PUBLISH
X-ORIGINAL-URL:https://www.ogcsa.org
X-WR-CALDESC:Events for OGCSA Golf Course Superintendents Association
REFRESH-INTERVAL;VALUE=DURATION:PT1H
X-Robots-Tag:noindex
X-PUBLISHED-TTL:PT1H
BEGIN:VTIMEZONE
TZID:America/Los_Angeles
BEGIN:DAYLIGHT
TZOFFSETFROM:-0800
TZOFFSETTO:-0700
TZNAME:PDT
DTSTART:20200308T100000
END:DAYLIGHT
BEGIN:STANDARD
TZOFFSETFROM:-0700
TZOFFSETTO:-0800
TZNAME:PST
DTSTART:20201101T090000
END:STANDARD
BEGIN:DAYLIGHT
TZOFFSETFROM:-0800
TZOFFSETTO:-0700
TZNAME:PDT
DTSTART:20210314T100000
END:DAYLIGHT
BEGIN:STANDARD
TZOFFSETFROM:-0700
TZOFFSETTO:-0800
TZNAME:PST
DTSTART:20211107T090000
END:STANDARD
BEGIN:DAYLIGHT
TZOFFSETFROM:-0800
TZOFFSETTO:-0700
TZNAME:PDT
DTSTART:20220313T100000
END:DAYLIGHT
BEGIN:STANDARD
TZOFFSETFROM:-0700
TZOFFSETTO:-0800
TZNAME:PST
DTSTART:20221106T090000
END:STANDARD
END:VTIMEZONE
BEGIN:VEVENT
DTSTART;TZID=America/Los_Angeles:20210921T100000
DTEND;TZID=America/Los_Angeles:20210921T160000
DTSTAMP:20260422T090106
CREATED:20210716T172127Z
LAST-MODIFIED:20210910T234400Z
UID:4291-1632218400-1632240000@www.ogcsa.org
SUMMARY:2021 Crew Tournament - Central
DESCRIPTION:EVENT IS FULL…\nPlan to join us for the annual Central Oregon Crew Tournament at the stunning Quail Run Golf Course! The format this year is a 4-person scramble shotgun tournament. Payouts will be for 1st\, 2nd gross and net along with many on course contests. The winning Crew Championship gross team will compete with top two teams from West Crew Tournament against WWGCSA and IEGCSA Crew Champions in the 17th Annual PNW. \nPresented By \n \nShotgun start 10:00am \nRegistration includes: Golf\, cart\, lunch\, range balls\, hat and raffle prizes \nEVENT IS FULL – To be put on the waitlist email ogcsa@ogcsa.org\nAdditional Info: \n\nAll players must be employed for the course they are representing and work on the greens/grounds crew\n24 handicap maximum\nPGA Professionals are not eligible for prizes\n\n**Cancellation / No-Show Policy: Cancellation requests must be made in writing. No refunds will be made for no-shows or for cancellations made after Tuesday\, September 14\, 2021.
URL:https://www.ogcsa.org/event/2021-crew-tournament-central/
LOCATION:Quail Run Golf Course\, 16725 Northridge\, Lapine\, OR\, 97739\, United States
END:VEVENT
END:VCALENDAR