BEGIN:VCALENDAR
VERSION:2.0
PRODID:-//OGCSA Golf Course Superintendents Association - ECPv6.15.20//NONSGML v1.0//EN
CALSCALE:GREGORIAN
METHOD:PUBLISH
X-WR-CALNAME:OGCSA Golf Course Superintendents Association
X-ORIGINAL-URL:https://www.ogcsa.org
X-WR-CALDESC:Events for OGCSA Golf Course Superintendents Association
REFRESH-INTERVAL;VALUE=DURATION:PT1H
X-Robots-Tag:noindex
X-PUBLISHED-TTL:PT1H
BEGIN:VTIMEZONE
TZID:America/Los_Angeles
BEGIN:DAYLIGHT
TZOFFSETFROM:-0800
TZOFFSETTO:-0700
TZNAME:PDT
DTSTART:20200308T100000
END:DAYLIGHT
BEGIN:STANDARD
TZOFFSETFROM:-0700
TZOFFSETTO:-0800
TZNAME:PST
DTSTART:20201101T090000
END:STANDARD
BEGIN:DAYLIGHT
TZOFFSETFROM:-0800
TZOFFSETTO:-0700
TZNAME:PDT
DTSTART:20210314T100000
END:DAYLIGHT
BEGIN:STANDARD
TZOFFSETFROM:-0700
TZOFFSETTO:-0800
TZNAME:PST
DTSTART:20211107T090000
END:STANDARD
BEGIN:DAYLIGHT
TZOFFSETFROM:-0800
TZOFFSETTO:-0700
TZNAME:PDT
DTSTART:20220313T100000
END:DAYLIGHT
BEGIN:STANDARD
TZOFFSETFROM:-0700
TZOFFSETTO:-0800
TZNAME:PST
DTSTART:20221106T090000
END:STANDARD
END:VTIMEZONE
BEGIN:VEVENT
DTSTART;VALUE=DATE:20211003
DTEND;VALUE=DATE:20211005
DTSTAMP:20260422T071738
CREATED:20210319T163920Z
LAST-MODIFIED:20210614T175242Z
UID:3956-1633219200-1633391999@www.ogcsa.org
SUMMARY:2021 Oregon Turf Foundation Golf Tournament
DESCRIPTION:Join the Oregon Turfgrass Foundation for the 19th Annual Golf Tournament in Bend and support OSU research and student scholarships.\n \n  \nFor Registration and Sponsorship opportunities Visit:\nhttp://oregonturfgrassfoundation.org/events/2018-sponsorship-opportunities/\n  \n 
URL:https://www.ogcsa.org/event/oregon-turf-foundation-golf-tournament/
LOCATION:Bend Golf & Country Club\,  61045 Country Club Dr\, Bend\, OR\,  97702\, United States
END:VEVENT
END:VCALENDAR