BEGIN:VCALENDAR
VERSION:2.0
PRODID:-//OGCSA Golf Course Superintendents Association - ECPv6.15.20//NONSGML v1.0//EN
CALSCALE:GREGORIAN
METHOD:PUBLISH
X-WR-CALNAME:OGCSA Golf Course Superintendents Association
X-ORIGINAL-URL:https://www.ogcsa.org
X-WR-CALDESC:Events for OGCSA Golf Course Superintendents Association
REFRESH-INTERVAL;VALUE=DURATION:PT1H
X-Robots-Tag:noindex
X-PUBLISHED-TTL:PT1H
BEGIN:VTIMEZONE
TZID:America/Los_Angeles
BEGIN:DAYLIGHT
TZOFFSETFROM:-0800
TZOFFSETTO:-0700
TZNAME:PDT
DTSTART:20200308T100000
END:DAYLIGHT
BEGIN:STANDARD
TZOFFSETFROM:-0700
TZOFFSETTO:-0800
TZNAME:PST
DTSTART:20201101T090000
END:STANDARD
BEGIN:DAYLIGHT
TZOFFSETFROM:-0800
TZOFFSETTO:-0700
TZNAME:PDT
DTSTART:20210314T100000
END:DAYLIGHT
BEGIN:STANDARD
TZOFFSETFROM:-0700
TZOFFSETTO:-0800
TZNAME:PST
DTSTART:20211107T090000
END:STANDARD
BEGIN:DAYLIGHT
TZOFFSETFROM:-0800
TZOFFSETTO:-0700
TZNAME:PDT
DTSTART:20220313T100000
END:DAYLIGHT
BEGIN:STANDARD
TZOFFSETFROM:-0700
TZOFFSETTO:-0800
TZNAME:PST
DTSTART:20221106T090000
END:STANDARD
END:VTIMEZONE
BEGIN:VEVENT
DTSTART;TZID=America/Los_Angeles:20211201T095000
DTEND;TZID=America/Los_Angeles:20211209T130000
DTSTAMP:20260422T035622
CREATED:20210527T193927Z
LAST-MODIFIED:20211127T160021Z
UID:4173-1638352200-1639054800@www.ogcsa.org
SUMMARY:2021 Pest Management Webinar Series
DESCRIPTION:  \nYou spoke. We listened. The OGCSA Pest Management Education Program is once again going virtual. This year’s event will be held over 4 days\, Wednesday and Thursday\, December 1-2 & 8-9\, 2021 in 3 hour sessions. Join us for one or all four sessions and hear presentations from leading industry professionals. \n REGISTER HERE\nPartnering once again with Oregon Landscape Contractors Association  \n  \n \n  \nWHAT YOU NEED TO KNOW \nPLEASE READ ALL THE FOLLOWING INFORMATION CAREFULLY\nWHAT IT IS:\n\n4 three-hour webinar sessions each begin at 10:00am Pacific Time running Wednesday and Thursday the weeks of December 1-2 & 8-9\nYou may choose to skip daily sessions—However you will only receive credits for each session attended in full\nEarly Registration Fee is $100 for the series. After November 24th Fee is $120\n\nSIGNING UP:\n\nONLINE registration is preferred. If you need to pay with a check via invoice option\, email ogcsa@ogcsa.org with complete registration information.\nEACH attendee will need to register individually\nYou will be required to enter your state pesticide license number on the registration screen. If you do not have a license number enter “NA”\nUpon payment you will receive an email confirmation with the webinar series link. This link is unique to you and cannot be shared. Please add it to your online calendar\nYou will receive reminder emails with your webinar links & information\n\nIN THE SEMINAR:\n\nEach attendee will need to join the webinar on their own device\nPlease review Webinar Best Management Practices to ensure that your device and internet connection will work properly\nYou MUST be logged on the ENTIRE time and answer polling questions when prompted to receive credit. If you miss polling questions or leave the webinar early you will not receive credit for that session. Webinars will be audited by state authorities\nThere will be two 10 minute breaks during each session\nIn the webinar you will not need access to a webcam you will be in listen only mode\nYou will have the ability to ask questions during the webinar through the chat feature— you may also send questions in ahead of time to ogcsa@ogcsa.org\n\nCREDITS:\n\n12 Oregon Pesticide Recertification Credits – 3 Credits will be given per daily session attended in full – APPROVED\n\nDay 1 – 12/1/21 – 3 Credits (Core: 2 Other: 1)\nDay 2 – 12/2/21 – 3 Credits (Core: 1 Other: 2)\nDay 3 – 12/8/21 – 3 Credits (Core: 1 Other: 2)\nDay 4 – 12/9/21 – 3 Credits (Core: 1 Other: 2)\n\n\n12 Washington Pesticide Recertification Credits – 3 Credits will be given per daily session attended in full – APPROVED\nUp to 1.2 GCSAA Education Points  – .30 Points will be given per daily session attended in full – APPROVED\nUp tp 12 ORLCB Continuing Education Hours – 3 Hours will be given per daily session attended in full – APPROVED\n\n REGISTER HERE\nDAILY SCHEDULE:\n9:50-10:00 am—Login\n10:00-10:50 am—Presentation #1\n10:50-11:00 am—Q&A and Break\n11:00-11:50 am—Presentation #2\n11:50-12:00 pm—Q&A and Break\n12:00-12:50 pm—Presentation #3\n12:50-1:00 pm—Q&A and Closing \nSESSIONS:\nDay 1 – Wednesday\, December 1\, 2021\nWhat’s the dirt on earthworms?\nSpeaker: Paige Boyle – Doctoral Candidate at Utah State University\nWater Quality in the PNW: What is Known and How You Can Help\nSpeaker: Kaci Buhl – Associate Professor at Oregon State University\nGlyphosate Update: Toxicology\, lawsuits\, and label changes\nSpeaker: Kaci Buhl – Associate Professor at Oregon State University \nDay 2 – Thursday\, December 2\, 2021\nSpray Nozzle Technology -Droplet size & Drift Management\nSpeaker: Mike Powers – Regional Manager\, TeeJet Technologies\nSoil-borne Pests of Golf Greens\nSpeaker: Zac Reicher\, Ph.D. – Technical Specialist\, Bayer Environmental Science \nDay 3 – Wednesday\, December 8\, 2021\nCrash Course:  Oregon OSHA’s short but spectacular take on Heat Stress\, Pesticides\, Hazard Communication and Wildland Smoke. Part 1\nSpeaker: Brandi Davis – Senior Health Compliance Officer\, Oregon OSHA\nFungicide Updates: Microdochium Patch\, Anthracnose\, Grey Snow Mold\, Fairy Ring\, and Waitea Patch\nSpeakers: Brian McDonald and Emily Braithwaite\, OSU Turfgrass\nAnnual bluegrass herbicide resistance\nSpeakers: Alec Kowalewski\, Ph.D. and Clint Mattox\, Ph.D. – OSU Turfgrass \nDay 4 – Thursday\, December 9\, 2021\nCrash Course:  Oregon OSHA’s short but spectacular take on Heat Stress\, Pesticides\, Hazard Communication and Wildland Smoke. Part 2\nSpeaker: Brandi Davis – Senior Health Compliance Officer\, Oregon OSHA\nPlanning for Disease Control and Key Lessons from 2021 \nSpeaker: Dean Mosdell\, Ph.D. – Turf & Ornamental Specialist\, Syngenta\nPractical Weed Control in PNW\nSpeaker: Dean Mosdell\, Ph.D. – Turf & Ornamental Specialist\, Syngenta \nCANCELLATION POLICY & QUESTIONS:\n\nWe encourage online payment. However\, if you need to be billed by invoice please email all of the REQUIRED registration information to ogcsa@ogcsa.org or call OGCSA office at 503-344-6535.\nFor FULL refund cancellations must be made by 5:00pm November 26 to OGCSA email below\nQuestions—Email: ogcsa@ogcsa.org or Call: 503-344-6535\n\n~ PLEASE NOTE ~ \n IT IS YOUR RESPONSIBLTY TO MAKE SURE YOUR SYSTEM IS READY TO GO AND WILL RUN THE WEBINAR ~
URL:https://www.ogcsa.org/event/2021-pest-management-webinar-series/
LOCATION:Webinar Meeting
END:VEVENT
END:VCALENDAR