BEGIN:VCALENDAR
VERSION:2.0
PRODID:-//OGCSA Golf Course Superintendents Association - ECPv6.15.20//NONSGML v1.0//EN
CALSCALE:GREGORIAN
METHOD:PUBLISH
X-ORIGINAL-URL:https://www.ogcsa.org
X-WR-CALDESC:Events for OGCSA Golf Course Superintendents Association
REFRESH-INTERVAL;VALUE=DURATION:PT1H
X-Robots-Tag:noindex
X-PUBLISHED-TTL:PT1H
BEGIN:VTIMEZONE
TZID:America/Los_Angeles
BEGIN:DAYLIGHT
TZOFFSETFROM:-0800
TZOFFSETTO:-0700
TZNAME:PDT
DTSTART:20210314T100000
END:DAYLIGHT
BEGIN:STANDARD
TZOFFSETFROM:-0700
TZOFFSETTO:-0800
TZNAME:PST
DTSTART:20211107T090000
END:STANDARD
BEGIN:DAYLIGHT
TZOFFSETFROM:-0800
TZOFFSETTO:-0700
TZNAME:PDT
DTSTART:20220313T100000
END:DAYLIGHT
BEGIN:STANDARD
TZOFFSETFROM:-0700
TZOFFSETTO:-0800
TZNAME:PST
DTSTART:20221106T090000
END:STANDARD
BEGIN:DAYLIGHT
TZOFFSETFROM:-0800
TZOFFSETTO:-0700
TZNAME:PDT
DTSTART:20230312T100000
END:DAYLIGHT
BEGIN:STANDARD
TZOFFSETFROM:-0700
TZOFFSETTO:-0800
TZNAME:PST
DTSTART:20231105T090000
END:STANDARD
END:VTIMEZONE
BEGIN:VEVENT
DTSTART;VALUE=DATE:20220615
DTEND;VALUE=DATE:20220616
DTSTAMP:20260421T164211
CREATED:20220127T171355Z
LAST-MODIFIED:20220613T005720Z
UID:4642-1655251200-1655337599@www.ogcsa.org
SUMMARY:2022 Summer 2 Ball Tournament
DESCRIPTION:Registration Open!\nThe OGCSA Golf Commitee and Board of Directors introduces the “Summer 2 Ball Tournament”! Formally known as the “Superintendent – Assistant Tournament” the goal behind rebranding this tournament is to reflect that this event is open to all members to put together their own 2-person team. Superintendents\, Assistant Superintendents\, Crew Members\, Affiliates\, Retired Members\, Students……All are welcome! \nOGCSA Director and host superintendent\, Ty Patton is excited to welcome everyone for this year’s event. We have been waiting 3 years to bring this event to Tokatee – Covid-19 cancelled us in 2020 and road closures from the wildfires in 2021\, 3rd times a charm in 2022! \n \nRegistration Closed\nPresented By\n \nTeam registration includes:\n-2-person golf team with carts\n-Range balls\n-On course games\n-Food and beverages \nTime:\n-12:00 pm – Shotgun Start\n-11:00 am – Lunch & Check-in \nIf enough interest\, we hope to host a post round Horse Race!!! \nFormat:\n-TBD \nLodging: \n-For free lodging\, everyone is welcome to dry camp in the field to the west of #3. No bathrooms or campfires\, but it’s free. RV’s welcome. \n-For improved campgrounds\, there are a few nearby. The Mckenzie Bridge Campground\, Paradise Campground\, and then Horse Creek Group Campground. \n-The Harbick Motel is right next door. Harbick’s Country Inn – Blue River\, OR (harbickscountryinn.com) \n-There are also many nice Airbnb’s on the Mckenzie River. \n**Cancellation / No-Show Policy: Cancellation requests must be made in writing to the OGCSA office. No refunds will be made for no-shows or for cancellations made after June 10\, 2022. \nQUESTIONS:\nContact OGCSA office at 503-344-6535 or email: ogcsa@ogcsa.org \n 
URL:https://www.ogcsa.org/event/2022-summer-2-ball-golf-tournament/
LOCATION:Tokatee Golf Course\, 54947 McKenzie Highway\, Blue River\, OR\, 97413
END:VEVENT
END:VCALENDAR