BEGIN:VCALENDAR
VERSION:2.0
PRODID:-//OGCSA Golf Course Superintendents Association - ECPv6.15.20//NONSGML v1.0//EN
CALSCALE:GREGORIAN
METHOD:PUBLISH
X-ORIGINAL-URL:https://www.ogcsa.org
X-WR-CALDESC:Events for OGCSA Golf Course Superintendents Association
REFRESH-INTERVAL;VALUE=DURATION:PT1H
X-Robots-Tag:noindex
X-PUBLISHED-TTL:PT1H
BEGIN:VTIMEZONE
TZID:America/Los_Angeles
BEGIN:DAYLIGHT
TZOFFSETFROM:-0800
TZOFFSETTO:-0700
TZNAME:PDT
DTSTART:20220313T100000
END:DAYLIGHT
BEGIN:STANDARD
TZOFFSETFROM:-0700
TZOFFSETTO:-0800
TZNAME:PST
DTSTART:20221106T090000
END:STANDARD
BEGIN:DAYLIGHT
TZOFFSETFROM:-0800
TZOFFSETTO:-0700
TZNAME:PDT
DTSTART:20230312T100000
END:DAYLIGHT
BEGIN:STANDARD
TZOFFSETFROM:-0700
TZOFFSETTO:-0800
TZNAME:PST
DTSTART:20231105T090000
END:STANDARD
BEGIN:DAYLIGHT
TZOFFSETFROM:-0800
TZOFFSETTO:-0700
TZNAME:PDT
DTSTART:20240310T100000
END:DAYLIGHT
BEGIN:STANDARD
TZOFFSETFROM:-0700
TZOFFSETTO:-0800
TZNAME:PST
DTSTART:20241103T090000
END:STANDARD
END:VTIMEZONE
BEGIN:VEVENT
DTSTART;TZID=America/Los_Angeles:20230208T183000
DTEND;TZID=America/Los_Angeles:20230208T210000
DTSTAMP:20260421T032450
CREATED:20221011T205333Z
LAST-MODIFIED:20230201T013453Z
UID:5250-1675881000-1675890000@www.ogcsa.org
SUMMARY:2023 Chapters of the Northwest Hospitality Room
DESCRIPTION:Planning to attend the GCSAA Conference and Show in sunny Orlando\, Florida? Make sure to mark your calendars for the Chapters of the Northwest Hospitality Room. This is a fantastic opportunity to catch up with new and old friends from fellow Northwest GCSAA chapters. This event will be held at the same awesome venue we were at in 2020 – Tin Roof\, Orlando. \nWe are able to host this event because of the generous support from our industry partners. We welcome your support – To join our list of sponsoring partners contact Alexis Wenker at ogcsa@ogcsa.org or call 503-344-6535 \nThis event is made possible from the support of our Industry Partners!\n~Thank You~\nPlatinum Sponsors\nPacific Golf & Turf\nTurf Star Western\nGold Sponsors\nAquatrols\nBarenbrug\nC&B Operations/Stotz Equipment\nEnvu\nRidgetop Golf\nSimplot Turf & Horticulture\nSyngenta\nSilver Sponsors\nEarthWorks\nHarco Pipe Fittings\nHD Fowler\nMidland Implement\nPlanet Turf\nBronze Sponsors\nAMGUARD\nBrandt\nHorizon Distributors\nHelena\nEnviroLogic Resources Inc.\nLocus AG\nMidland Implement Co\nSustainable Pest Management Solutions\nThe Andersons\nWalrath Sand Products\nWashington Rock Golf Sand\nWilbur Ellis Company \n 
URL:https://www.ogcsa.org/event/2023-chapters-of-the-northwest-hospitality-room/
LOCATION:Tin Roof\, 8371 International Dr. Ste 100\, Orlando\, FL\, 32819\, United States
END:VEVENT
BEGIN:VEVENT
DTSTART;TZID=America/Los_Angeles:20230223T150000
DTEND;TZID=America/Los_Angeles:20230223T170000
DTSTAMP:20260421T032450
CREATED:20230114T002810Z
LAST-MODIFIED:20230114T002810Z
UID:5426-1677164400-1677171600@www.ogcsa.org
SUMMARY:2023 Oregon State University Winter Turfgrass Field Day
DESCRIPTION:2023 Winter Turfgrass Field Day \nThursday – Feb 23\, 2023 from 3 to 5 pm \nOSU Lewis-Brown Horticulture Farm\, 33329 Peoria Rd\, Corvallis\, OR\, 97331 \nDinner at Trysting Tree Golf Course \nRegistration and Dinner is FREE for all attendees  \nPlease RSVP to alec.kowalewski@oregonstate.edu
URL:https://www.ogcsa.org/event/2023-oregon-state-university-winter-turfgrass-field-day/
LOCATION:Lewis-Brown Farm\, 33329 Peoria Rd\, Corvallis\, OR\, 97333\, United States
END:VEVENT
END:VCALENDAR